BEGIN:VCALENDAR
VERSION:2.0
PRODID:-//hacksw/handcal//NONSGML v1.0//EN
BEGIN:VEVENT
SUMMARY:13H30 - normale - Rouille - Venours (visite de Rurart) (A) – 2,5€ - ROUSSEL G
UID:3fddf636-c2ed-4993-8357-1b626516c4f1
DTSTART:20260414T220000Z
DTEND:20260415T220000Z
LOCATION:Localisation   
CATEGORIES:Sportif
STATUS:
URL;VALUE=URI:https://www.cheminance86.fr/evenements/2026/04/15/13h30-normale-rouille-venours-visite-de-rurart-a-25eur-roussel-g-2431747
END:VEVENT
END:VCALENDAR
